BEGIN:VCALENDAR
VERSION:2.0
PRODID:-//ChamberMaster//Event Calendar 2.0//EN
METHOD:PUBLISH
X-PUBLISHED-TTL:P3D
REFRESH-INTERVAL:P3D
CALSCALE:GREGORIAN
BEGIN:VEVENT
DTSTART;VALUE=DATE:20111016
DTEND;VALUE=DATE:20111017
TRANSP:TRANSPARENT
X-MICROSOFT-CDO-ALLDAYEVENT:TRUE
SUMMARY:2011-2012 Ord Area Option Campaign Begins
DESCRIPTION:Complete guidelines will be posted soon.\n\n\n\nThe schedule for the 2011-2012 Ord Area Option Campaign is as follows:\n\n\n\nOctober 16\, 2011 - Ord Area Option campaign launches at the Community Appreciation Pancake Feed\n\nNovember 26\, 2011 - 1st Drawing: $500 Ord Area ChamberBucks will be held in conjunction with WinterFest\n\nDecember 8\, 2011 - 2nd Drawing: $250 Ord Area ChamberBucks will be held in conjunction with a community Soup Supper (a part of our Christmas Celebration)\n\nDecember 22\, 2011 - 3rd Drawing: $500 Ord Area ChamberBucks will be held in conjuntion with a community Soup Supper (a part of our Christmas Celebration)\n\nFebruary 25\, 2011 - 4th Drawing: $500 Ord Area ChamberBucks will be held in conjuntion with the Economic Development and Chamber's Annual Banquet
X-ALT-DESC;FMTTYPE=text/html:Complete guidelines will be posted soon.<br />\n<br />\nThe schedule for the 2011-2012 Ord Area Option Campaign is as follows:<br />\n<br />\nOctober 16\, 2011 - Ord Area Option campaign launches at the Community Appreciation Pancake Feed<br />\nNovember 26\, 2011 - 1st Drawing: $500 Ord Area ChamberBucks will be held in conjunction with WinterFest<br />\nDecember 8\, 2011 - 2nd Drawing: $250 Ord Area ChamberBucks will be held in conjunction with a community Soup Supper (a part of our Christmas Celebration)<br />\nDecember 22\, 2011 - 3rd Drawing: $500 Ord Area ChamberBucks will be held in conjuntion with a community Soup Supper (a part of our Christmas Celebration)<br />\nFebruary 25\, 2011 - 4th Drawing: $500 Ord Area ChamberBucks will be held in conjuntion with the Economic Development and Chamber&#39\;s Annual Banquet&nbsp\;<span _fck_bookmark="1" style="display: none">&nbsp\;</span>
LOCATION:
UID:e.1165.654
SEQUENCE:3
DTSTAMP:20260423T084005Z
URL:https://chamber.ordnebraska.com/events/details/2011-2012-ord-area-option-campaign-begins-10-16-2011-654
END:VEVENT

END:VCALENDAR
