BEGIN:VCALENDAR
VERSION:2.0
PRODID:-//ChamberMaster//Event Calendar 2.0//EN
METHOD:PUBLISH
X-PUBLISHED-TTL:P3D
REFRESH-INTERVAL:P3D
CALSCALE:GREGORIAN
BEGIN:VEVENT
DTSTART:20110701T130000Z
DTEND:20110702T000000Z
X-MICROSOFT-CDO-ALLDAYEVENT:FALSE
SUMMARY:13th Annual VCHS Foundation Golf Tournament & Auction
DESCRIPTION:Join VCHS Foundation for their 13th Annual Golf Tournament & Auction!\n\nProceeds of the 2011 tournament will benefit Valley County Health System Foundation in supporting the mission of Valley County Health System.
X-ALT-DESC;FMTTYPE=text/html:Join VCHS Foundation for their 13th Annual Golf Tournament &amp\; Auction!\n<br>Proceeds of the 2011 tournament will benefit Valley County Health System Foundation in supporting the mission of Valley County Health System.
LOCATION:Ord Golf Club & Ord Veteran's Club
UID:e.1165.3
SEQUENCE:3
DTSTAMP:20260424T115949Z
URL:https://chamber.ordnebraska.com/events/details/13th-annual-vchs-foundation-golf-tournament-auction-07-01-2011-3
END:VEVENT

END:VCALENDAR
